BEGIN:VCALENDAR
VERSION:2.0
PRODID:-//The Shops at Kukuiula - ECPv6.15.20//NONSGML v1.0//EN
CALSCALE:GREGORIAN
METHOD:PUBLISH
X-ORIGINAL-URL:https://theshopsatkukuiula.com
X-WR-CALDESC:Events for The Shops at Kukuiula
REFRESH-INTERVAL;VALUE=DURATION:PT1H
X-Robots-Tag:noindex
X-PUBLISHED-TTL:PT1H
BEGIN:VTIMEZONE
TZID:UTC
BEGIN:STANDARD
TZOFFSETFROM:+0000
TZOFFSETTO:+0000
TZNAME:UTC
DTSTART:20250101T000000
END:STANDARD
END:VTIMEZONE
BEGIN:VEVENT
DTSTART;TZID=UTC:20260626T183000
DTEND;TZID=UTC:20260626T203000
DTSTAMP:20260421T013746
CREATED:20211030T075134Z
LAST-MODIFIED:20211030T075134Z
UID:11271-1782498600-1782505800@theshopsatkukuiula.com
SUMMARY:Kanikapila
DESCRIPTION:Celebrate Aloha Friday with live music performances by local Kaua’i bands and artists.
URL:https://theshopsatkukuiula.com/event/kanikapila/2026-06-26/
CATEGORIES:Ongoing Events
END:VEVENT
BEGIN:VEVENT
DTSTART;TZID=UTC:20260703T183000
DTEND;TZID=UTC:20260703T203000
DTSTAMP:20260421T013746
CREATED:20211030T075134Z
LAST-MODIFIED:20211030T075134Z
UID:11280-1783103400-1783110600@theshopsatkukuiula.com
SUMMARY:Kanikapila
DESCRIPTION:Celebrate Aloha Friday with live music performances by local Kaua’i bands and artists.
URL:https://theshopsatkukuiula.com/event/kanikapila/2026-07-03/
CATEGORIES:Ongoing Events
END:VEVENT
BEGIN:VEVENT
DTSTART;TZID=UTC:20260710T183000
DTEND;TZID=UTC:20260710T203000
DTSTAMP:20260421T013746
CREATED:20211030T075134Z
LAST-MODIFIED:20211030T075134Z
UID:11283-1783708200-1783715400@theshopsatkukuiula.com
SUMMARY:Kanikapila
DESCRIPTION:Celebrate Aloha Friday with live music performances by local Kaua’i bands and artists.
URL:https://theshopsatkukuiula.com/event/kanikapila/2026-07-10/
CATEGORIES:Ongoing Events
END:VEVENT
BEGIN:VEVENT
DTSTART;TZID=UTC:20260717T183000
DTEND;TZID=UTC:20260717T203000
DTSTAMP:20260421T013746
CREATED:20211030T075134Z
LAST-MODIFIED:20211030T075134Z
UID:11289-1784313000-1784320200@theshopsatkukuiula.com
SUMMARY:Kanikapila
DESCRIPTION:Celebrate Aloha Friday with live music performances by local Kaua’i bands and artists.
URL:https://theshopsatkukuiula.com/event/kanikapila/2026-07-17/
CATEGORIES:Ongoing Events
END:VEVENT
BEGIN:VEVENT
DTSTART;TZID=UTC:20260724T183000
DTEND;TZID=UTC:20260724T203000
DTSTAMP:20260421T013746
CREATED:20211030T075134Z
LAST-MODIFIED:20211030T075134Z
UID:11292-1784917800-1784925000@theshopsatkukuiula.com
SUMMARY:Kanikapila
DESCRIPTION:Celebrate Aloha Friday with live music performances by local Kaua’i bands and artists.
URL:https://theshopsatkukuiula.com/event/kanikapila/2026-07-24/
CATEGORIES:Ongoing Events
END:VEVENT
BEGIN:VEVENT
DTSTART;TZID=UTC:20260731T183000
DTEND;TZID=UTC:20260731T203000
DTSTAMP:20260421T013746
CREATED:20211030T075134Z
LAST-MODIFIED:20211030T075134Z
UID:11299-1785522600-1785529800@theshopsatkukuiula.com
SUMMARY:Kanikapila
DESCRIPTION:Celebrate Aloha Friday with live music performances by local Kaua’i bands and artists.
URL:https://theshopsatkukuiula.com/event/kanikapila/2026-07-31/
CATEGORIES:Ongoing Events
END:VEVENT
BEGIN:VEVENT
DTSTART;TZID=UTC:20260807T183000
DTEND;TZID=UTC:20260807T203000
DTSTAMP:20260421T013746
CREATED:20211030T075134Z
LAST-MODIFIED:20211030T075134Z
UID:11303-1786127400-1786134600@theshopsatkukuiula.com
SUMMARY:Kanikapila
DESCRIPTION:Celebrate Aloha Friday with live music performances by local Kaua’i bands and artists.
URL:https://theshopsatkukuiula.com/event/kanikapila/2026-08-07/
CATEGORIES:Ongoing Events
END:VEVENT
BEGIN:VEVENT
DTSTART;TZID=UTC:20260814T183000
DTEND;TZID=UTC:20260814T203000
DTSTAMP:20260421T013746
CREATED:20211030T075134Z
LAST-MODIFIED:20211030T075134Z
UID:11317-1786732200-1786739400@theshopsatkukuiula.com
SUMMARY:Kanikapila
DESCRIPTION:Celebrate Aloha Friday with live music performances by local Kaua’i bands and artists.
URL:https://theshopsatkukuiula.com/event/kanikapila/2026-08-14/
CATEGORIES:Ongoing Events
END:VEVENT
BEGIN:VEVENT
DTSTART;TZID=UTC:20260821T183000
DTEND;TZID=UTC:20260821T203000
DTSTAMP:20260421T013746
CREATED:20211030T075134Z
LAST-MODIFIED:20211030T075134Z
UID:11320-1787337000-1787344200@theshopsatkukuiula.com
SUMMARY:Kanikapila
DESCRIPTION:Celebrate Aloha Friday with live music performances by local Kaua’i bands and artists.
URL:https://theshopsatkukuiula.com/event/kanikapila/2026-08-21/
CATEGORIES:Ongoing Events
END:VEVENT
BEGIN:VEVENT
DTSTART;TZID=UTC:20260828T183000
DTEND;TZID=UTC:20260828T203000
DTSTAMP:20260421T013746
CREATED:20211030T075134Z
LAST-MODIFIED:20211030T075134Z
UID:11325-1787941800-1787949000@theshopsatkukuiula.com
SUMMARY:Kanikapila
DESCRIPTION:Celebrate Aloha Friday with live music performances by local Kaua’i bands and artists.
URL:https://theshopsatkukuiula.com/event/kanikapila/2026-08-28/
CATEGORIES:Ongoing Events
END:VEVENT
BEGIN:VEVENT
DTSTART;TZID=UTC:20260904T183000
DTEND;TZID=UTC:20260904T203000
DTSTAMP:20260421T013746
CREATED:20211030T075134Z
LAST-MODIFIED:20211030T075134Z
UID:11335-1788546600-1788553800@theshopsatkukuiula.com
SUMMARY:Kanikapila
DESCRIPTION:Celebrate Aloha Friday with live music performances by local Kaua’i bands and artists.
URL:https://theshopsatkukuiula.com/event/kanikapila/2026-09-04/
CATEGORIES:Ongoing Events
END:VEVENT
BEGIN:VEVENT
DTSTART;TZID=UTC:20260911T183000
DTEND;TZID=UTC:20260911T203000
DTSTAMP:20260421T013746
CREATED:20211030T075134Z
LAST-MODIFIED:20211030T075134Z
UID:11338-1789151400-1789158600@theshopsatkukuiula.com
SUMMARY:Kanikapila
DESCRIPTION:Celebrate Aloha Friday with live music performances by local Kaua’i bands and artists.
URL:https://theshopsatkukuiula.com/event/kanikapila/2026-09-11/
CATEGORIES:Ongoing Events
END:VEVENT
BEGIN:VEVENT
DTSTART;TZID=UTC:20260918T183000
DTEND;TZID=UTC:20260918T203000
DTSTAMP:20260421T013746
CREATED:20211030T075134Z
LAST-MODIFIED:20211030T075134Z
UID:11342-1789756200-1789763400@theshopsatkukuiula.com
SUMMARY:Kanikapila
DESCRIPTION:Celebrate Aloha Friday with live music performances by local Kaua’i bands and artists.
URL:https://theshopsatkukuiula.com/event/kanikapila/2026-09-18/
CATEGORIES:Ongoing Events
END:VEVENT
BEGIN:VEVENT
DTSTART;TZID=UTC:20260925T183000
DTEND;TZID=UTC:20260925T203000
DTSTAMP:20260421T013746
CREATED:20211030T075134Z
LAST-MODIFIED:20211030T075134Z
UID:11345-1790361000-1790368200@theshopsatkukuiula.com
SUMMARY:Kanikapila
DESCRIPTION:Celebrate Aloha Friday with live music performances by local Kaua’i bands and artists.
URL:https://theshopsatkukuiula.com/event/kanikapila/2026-09-25/
CATEGORIES:Ongoing Events
END:VEVENT
BEGIN:VEVENT
DTSTART;TZID=UTC:20261002T183000
DTEND;TZID=UTC:20261002T203000
DTSTAMP:20260421T013746
CREATED:20211030T075134Z
LAST-MODIFIED:20211030T075134Z
UID:11354-1790965800-1790973000@theshopsatkukuiula.com
SUMMARY:Kanikapila
DESCRIPTION:Celebrate Aloha Friday with live music performances by local Kaua’i bands and artists.
URL:https://theshopsatkukuiula.com/event/kanikapila/2026-10-02/
CATEGORIES:Ongoing Events
END:VEVENT
BEGIN:VEVENT
DTSTART;TZID=UTC:20261009T183000
DTEND;TZID=UTC:20261009T203000
DTSTAMP:20260421T013746
CREATED:20211030T075134Z
LAST-MODIFIED:20211030T075134Z
UID:11357-1791570600-1791577800@theshopsatkukuiula.com
SUMMARY:Kanikapila
DESCRIPTION:Celebrate Aloha Friday with live music performances by local Kaua’i bands and artists.
URL:https://theshopsatkukuiula.com/event/kanikapila/2026-10-09/
CATEGORIES:Ongoing Events
END:VEVENT
BEGIN:VEVENT
DTSTART;TZID=UTC:20261016T183000
DTEND;TZID=UTC:20261016T203000
DTSTAMP:20260421T013746
CREATED:20211030T075134Z
LAST-MODIFIED:20211030T075134Z
UID:11364-1792175400-1792182600@theshopsatkukuiula.com
SUMMARY:Kanikapila
DESCRIPTION:Celebrate Aloha Friday with live music performances by local Kaua’i bands and artists.
URL:https://theshopsatkukuiula.com/event/kanikapila/2026-10-16/
CATEGORIES:Ongoing Events
END:VEVENT
BEGIN:VEVENT
DTSTART;TZID=UTC:20261023T183000
DTEND;TZID=UTC:20261023T203000
DTSTAMP:20260421T013746
CREATED:20211030T075134Z
LAST-MODIFIED:20211030T075134Z
UID:11367-1792780200-1792787400@theshopsatkukuiula.com
SUMMARY:Kanikapila
DESCRIPTION:Celebrate Aloha Friday with live music performances by local Kaua’i bands and artists.
URL:https://theshopsatkukuiula.com/event/kanikapila/2026-10-23/
CATEGORIES:Ongoing Events
END:VEVENT
BEGIN:VEVENT
DTSTART;TZID=UTC:20261030T183000
DTEND;TZID=UTC:20261030T203000
DTSTAMP:20260421T013746
CREATED:20211030T075134Z
LAST-MODIFIED:20211030T075134Z
UID:11371-1793385000-1793392200@theshopsatkukuiula.com
SUMMARY:Kanikapila
DESCRIPTION:Celebrate Aloha Friday with live music performances by local Kaua’i bands and artists.
URL:https://theshopsatkukuiula.com/event/kanikapila/2026-10-30/
CATEGORIES:Ongoing Events
END:VEVENT
BEGIN:VEVENT
DTSTART;TZID=UTC:20261106T183000
DTEND;TZID=UTC:20261106T203000
DTSTAMP:20260421T013746
CREATED:20211030T075134Z
LAST-MODIFIED:20211030T075134Z
UID:11374-1793989800-1793997000@theshopsatkukuiula.com
SUMMARY:Kanikapila
DESCRIPTION:Celebrate Aloha Friday with live music performances by local Kaua’i bands and artists.
URL:https://theshopsatkukuiula.com/event/kanikapila/2026-11-06/
CATEGORIES:Ongoing Events
END:VEVENT
BEGIN:VEVENT
DTSTART;TZID=UTC:20261113T183000
DTEND;TZID=UTC:20261113T203000
DTSTAMP:20260421T013746
CREATED:20211030T075134Z
LAST-MODIFIED:20211030T075134Z
UID:11379-1794594600-1794601800@theshopsatkukuiula.com
SUMMARY:Kanikapila
DESCRIPTION:Celebrate Aloha Friday with live music performances by local Kaua’i bands and artists.
URL:https://theshopsatkukuiula.com/event/kanikapila/2026-11-13/
CATEGORIES:Ongoing Events
END:VEVENT
BEGIN:VEVENT
DTSTART;TZID=UTC:20261120T183000
DTEND;TZID=UTC:20261120T203000
DTSTAMP:20260421T013746
CREATED:20211030T075134Z
LAST-MODIFIED:20211030T075134Z
UID:11399-1795199400-1795206600@theshopsatkukuiula.com
SUMMARY:Kanikapila
DESCRIPTION:Celebrate Aloha Friday with live music performances by local Kaua’i bands and artists.
URL:https://theshopsatkukuiula.com/event/kanikapila/2026-11-20/
CATEGORIES:Ongoing Events
END:VEVENT
BEGIN:VEVENT
DTSTART;TZID=UTC:20261127T183000
DTEND;TZID=UTC:20261127T203000
DTSTAMP:20260421T013746
CREATED:20211030T075134Z
LAST-MODIFIED:20211030T075134Z
UID:11404-1795804200-1795811400@theshopsatkukuiula.com
SUMMARY:Kanikapila
DESCRIPTION:Celebrate Aloha Friday with live music performances by local Kaua’i bands and artists.
URL:https://theshopsatkukuiula.com/event/kanikapila/2026-11-27/
CATEGORIES:Ongoing Events
END:VEVENT
BEGIN:VEVENT
DTSTART;TZID=UTC:20261204T183000
DTEND;TZID=UTC:20261204T203000
DTSTAMP:20260421T013746
CREATED:20211030T075134Z
LAST-MODIFIED:20211030T075134Z
UID:11410-1796409000-1796416200@theshopsatkukuiula.com
SUMMARY:Kanikapila
DESCRIPTION:Celebrate Aloha Friday with live music performances by local Kaua’i bands and artists.
URL:https://theshopsatkukuiula.com/event/kanikapila/2026-12-04/
CATEGORIES:Ongoing Events
END:VEVENT
BEGIN:VEVENT
DTSTART;TZID=UTC:20261211T183000
DTEND;TZID=UTC:20261211T203000
DTSTAMP:20260421T013746
CREATED:20211030T075134Z
LAST-MODIFIED:20211030T075134Z
UID:11414-1797013800-1797021000@theshopsatkukuiula.com
SUMMARY:Kanikapila
DESCRIPTION:Celebrate Aloha Friday with live music performances by local Kaua’i bands and artists.
URL:https://theshopsatkukuiula.com/event/kanikapila/2026-12-11/
CATEGORIES:Ongoing Events
END:VEVENT
BEGIN:VEVENT
DTSTART;TZID=UTC:20261218T183000
DTEND;TZID=UTC:20261218T203000
DTSTAMP:20260421T013746
CREATED:20211030T075134Z
LAST-MODIFIED:20211030T075134Z
UID:11418-1797618600-1797625800@theshopsatkukuiula.com
SUMMARY:Kanikapila
DESCRIPTION:Celebrate Aloha Friday with live music performances by local Kaua’i bands and artists.
URL:https://theshopsatkukuiula.com/event/kanikapila/2026-12-18/
CATEGORIES:Ongoing Events
END:VEVENT
BEGIN:VEVENT
DTSTART;TZID=UTC:20261225T183000
DTEND;TZID=UTC:20261225T203000
DTSTAMP:20260421T013746
CREATED:20211030T075134Z
LAST-MODIFIED:20211030T075134Z
UID:11426-1798223400-1798230600@theshopsatkukuiula.com
SUMMARY:Kanikapila
DESCRIPTION:Celebrate Aloha Friday with live music performances by local Kaua’i bands and artists.
URL:https://theshopsatkukuiula.com/event/kanikapila/2026-12-25/
CATEGORIES:Ongoing Events
END:VEVENT
BEGIN:VEVENT
DTSTART;TZID=UTC:20270101T183000
DTEND;TZID=UTC:20270101T203000
DTSTAMP:20260421T013746
CREATED:20211030T075134Z
LAST-MODIFIED:20211030T075134Z
UID:11429-1798828200-1798835400@theshopsatkukuiula.com
SUMMARY:Kanikapila
DESCRIPTION:Celebrate Aloha Friday with live music performances by local Kaua’i bands and artists.
URL:https://theshopsatkukuiula.com/event/kanikapila/2027-01-01/
CATEGORIES:Ongoing Events
END:VEVENT
BEGIN:VEVENT
DTSTART;TZID=UTC:20270108T183000
DTEND;TZID=UTC:20270108T203000
DTSTAMP:20260421T013746
CREATED:20211030T075134Z
LAST-MODIFIED:20211030T075134Z
UID:11436-1799433000-1799440200@theshopsatkukuiula.com
SUMMARY:Kanikapila
DESCRIPTION:Celebrate Aloha Friday with live music performances by local Kaua’i bands and artists.
URL:https://theshopsatkukuiula.com/event/kanikapila/2027-01-08/
CATEGORIES:Ongoing Events
END:VEVENT
BEGIN:VEVENT
DTSTART;TZID=UTC:20270115T183000
DTEND;TZID=UTC:20270115T203000
DTSTAMP:20260421T013746
CREATED:20211030T075134Z
LAST-MODIFIED:20211030T075134Z
UID:11439-1800037800-1800045000@theshopsatkukuiula.com
SUMMARY:Kanikapila
DESCRIPTION:Celebrate Aloha Friday with live music performances by local Kaua’i bands and artists.
URL:https://theshopsatkukuiula.com/event/kanikapila/2027-01-15/
CATEGORIES:Ongoing Events
END:VEVENT
END:VCALENDAR