BEGIN:VCALENDAR
VERSION:2.0
PRODID:-//The Shops at Kukuiula - ECPv6.15.20//NONSGML v1.0//EN
CALSCALE:GREGORIAN
METHOD:PUBLISH
X-WR-CALNAME:The Shops at Kukuiula
X-ORIGINAL-URL:https://theshopsatkukuiula.com
X-WR-CALDESC:Events for The Shops at Kukuiula
REFRESH-INTERVAL;VALUE=DURATION:PT1H
X-Robots-Tag:noindex
X-PUBLISHED-TTL:PT1H
BEGIN:VTIMEZONE
TZID:Pacific/Honolulu
BEGIN:STANDARD
TZOFFSETFROM:-1000
TZOFFSETTO:-1000
TZNAME:HST
DTSTART:20250101T000000
END:STANDARD
END:VTIMEZONE
BEGIN:VEVENT
DTSTART;VALUE=DATE:20260320
DTEND;VALUE=DATE:20260325
DTSTAMP:20260420T043920
CREATED:20260320T172212Z
LAST-MODIFIED:20260320T172359Z
UID:11853-1773964800-1774396799@theshopsatkukuiula.com
SUMMARY:Spring Beauty Sale!
DESCRIPTION:Spring Into Gorgeous Skin with 20% OFF Mālie Organicsʻ Body Gloss\, Body Polish\, Beauty Oil\, and Botanical Butter Buns.
URL:https://theshopsatkukuiula.com/event/spring-beauty-sale/
CATEGORIES:Ongoing Events,Special Events and Promotions
ATTACH;FMTTYPE=image/jpeg:https://theshopsatkukuiula.com/wp-content/uploads/2026/03/1020x1350.jpg
END:VEVENT
END:VCALENDAR