BEGIN:VCALENDAR
VERSION:2.0
PRODID:-//The Shops at Kukuiula - ECPv6.15.20//NONSGML v1.0//EN
CALSCALE:GREGORIAN
METHOD:PUBLISH
X-ORIGINAL-URL:https://theshopsatkukuiula.com
X-WR-CALDESC:Events for The Shops at Kukuiula
REFRESH-INTERVAL;VALUE=DURATION:PT1H
X-Robots-Tag:noindex
X-PUBLISHED-TTL:PT1H
BEGIN:VTIMEZONE
TZID:Pacific/Honolulu
BEGIN:STANDARD
TZOFFSETFROM:-1000
TZOFFSETTO:-1000
TZNAME:HST
DTSTART:20250101T000000
END:STANDARD
END:VTIMEZONE
BEGIN:VEVENT
DTSTART;TZID=Pacific/Honolulu:20260327T183000
DTEND;TZID=Pacific/Honolulu:20260327T203000
DTSTAMP:20260420T032824
CREATED:20260225T170759Z
LAST-MODIFIED:20260312T003558Z
UID:11832-1774636200-1774643400@theshopsatkukuiula.com
SUMMARY:Ohana Movie Night: Zootopia 2
DESCRIPTION:Join us at the Palm Court for a relaxing evening under the stars! Enjoy a family-friendly movie in an open-air setting\, complete with complimentary snacks and refreshments.\nThe movie will begin at sunset\, weather permitting.
URL:https://theshopsatkukuiula.com/event/ohana-movie-night-zootopia-2/
LOCATION:Palm Court
CATEGORIES:Special Events and Promotions
ATTACH;FMTTYPE=image/jpeg:https://theshopsatkukuiula.com/wp-content/uploads/2026/02/Zootopia_2_Postponed.jpg
END:VEVENT
END:VCALENDAR