BEGIN:VCALENDAR
VERSION:2.0
PRODID:-//The Shops at Kukuiula - ECPv6.15.20//NONSGML v1.0//EN
CALSCALE:GREGORIAN
METHOD:PUBLISH
X-WR-CALNAME:The Shops at Kukuiula
X-ORIGINAL-URL:https://theshopsatkukuiula.com
X-WR-CALDESC:Events for The Shops at Kukuiula
REFRESH-INTERVAL;VALUE=DURATION:PT1H
X-Robots-Tag:noindex
X-PUBLISHED-TTL:PT1H
BEGIN:VTIMEZONE
TZID:Pacific/Honolulu
BEGIN:STANDARD
TZOFFSETFROM:-1000
TZOFFSETTO:-1000
TZNAME:HST
DTSTART:20240101T000000
END:STANDARD
END:VTIMEZONE
BEGIN:VTIMEZONE
TZID:UTC
BEGIN:STANDARD
TZOFFSETFROM:+0000
TZOFFSETTO:+0000
TZNAME:UTC
DTSTART:20240101T000000
END:STANDARD
END:VTIMEZONE
BEGIN:VEVENT
DTSTART;TZID=Pacific/Honolulu:20250723T153000
DTEND;TZID=Pacific/Honolulu:20250723T180000
DTSTAMP:20260422T015153
CREATED:20250607T025026Z
LAST-MODIFIED:20250607T025026Z
UID:11592-1753284600-1753293600@theshopsatkukuiula.com
SUMMARY:Koloa Plantation Days: Kauai Culinary Market
DESCRIPTION:Koloa Plantation Days festivities continue at The Shops at Kukui‘ula during the weekly Kaua‘i Culinary Market from 3:30pm to 6pm\, featuring plantation foods and dishes from diverse cultures that were brought to Kaua‘i during the sugar plantation days and continue to be enjoyed by residents and visitors today. At 5pm at the Palm Court\, join us for a special chef demonstration by Living Foods\, which will illustrate the different flavors and cultural influences on local foods. \nThe Kaua‘i Culinary Market is a partnership between The Shops at Kukui‘ula and the Kaua‘i County Farm Bureau and is held at The Shops at Kukui‘ula every Wednesday from 3:30pm to 6pm with a special chef demonstration featuring locally grown products at 5pm. This one-of-a-kind farmers market boasts over 25 participating local farmers\, artisanal product producers and vendors offering fresh vegetables\, fruits and other unique delicacies and is enhanced by live Hawaiian music from local artists and a wine and beer garden at the Palm Court.
URL:https://theshopsatkukuiula.com/event/koloa-plantation-days-kauai-culinary-market-2/
CATEGORIES:Special Events and Promotions
ATTACH;FMTTYPE=image/jpeg:https://theshopsatkukuiula.com/wp-content/uploads/2025/06/Culinary-Market-scaled.jpg
END:VEVENT
BEGIN:VEVENT
DTSTART;TZID=Pacific/Honolulu:20250721T183000
DTEND;TZID=Pacific/Honolulu:20250721T200000
DTSTAMP:20260422T015153
CREATED:20250607T024922Z
LAST-MODIFIED:20250626T010619Z
UID:11591-1753122600-1753128000@theshopsatkukuiula.com
SUMMARY:"Riding the Waves of Change” with Master Storyteller Lopaka Kapanui
DESCRIPTION:The Shops at Kukui‘ula will welcome Master Storyteller Lopaka Kapanui for “Riding the Waves of Change: A Storytelling.” Lopaka Kapanui is a native Hawaiian storyteller and cultural practitioner. The plantation-style architecture of The Shops at Kukui‘ula offers a beautiful setting to immerse yourself in Hawaiian history and culture – and at the Palm Court\, enjoy some cool refreshments as the Master Storyteller leads narration of life during the plantation era along with legendary ghost tales.
URL:https://theshopsatkukuiula.com/event/riding-the-waves-of-change-with-master-storyteller-lopaka-kapanui/
CATEGORIES:Special Events and Promotions
ATTACH;FMTTYPE=image/jpeg:https://theshopsatkukuiula.com/wp-content/uploads/2025/06/Lopaka-Kapanui-Photo.jpg
END:VEVENT
BEGIN:VEVENT
DTSTART;TZID=Pacific/Honolulu:20250719T110000
DTEND;TZID=Pacific/Honolulu:20250719T160000
DTSTAMP:20260422T015153
CREATED:20250626T142422Z
LAST-MODIFIED:20250626T142455Z
UID:11620-1752922800-1752940800@theshopsatkukuiula.com
SUMMARY:Lappert's Hawaii Tiki Summer Keiki Fun Event
DESCRIPTION:Time: 11am – 4pm\nLocation: Lappert’s Hawaii Ice Cream & Coffee \nJoin us for some sweet summer fun hosted by Lappert’s Hawaii! At the Tiki Summer Keiki event\, kids can color their own tiki mask and enjoy a free keiki scoop of ice cream in a cup. For more event details and to learn about Lappert’s summery giveaway\, visit @lappertsaloha on Instagram!
URL:https://theshopsatkukuiula.com/event/lapperts-hawaii-tiki-summer-keiki-fun-event-4/
LOCATION:Lappert’s Hawaii Ice Cream & Coffee
CATEGORIES:Special Events,Special Events and Promotions
ATTACH;FMTTYPE=image/jpeg:https://theshopsatkukuiula.com/wp-content/uploads/2025/06/Keiki-Coloring6x6.jpg
END:VEVENT
BEGIN:VEVENT
DTSTART;TZID=UTC:20250718T183000
DTEND;TZID=UTC:20250718T203000
DTSTAMP:20260422T015153
CREATED:20211030T075134Z
LAST-MODIFIED:20211030T075134Z
UID:10978-1752863400-1752870600@theshopsatkukuiula.com
SUMMARY:Kanikapila
DESCRIPTION:Celebrate Aloha Friday with live music performances by local Kaua’i bands and artists.
URL:https://theshopsatkukuiula.com/event/kanikapila/2025-07-18/
CATEGORIES:Ongoing Events
END:VEVENT
BEGIN:VEVENT
DTSTART;TZID=Pacific/Honolulu:20250718T173000
DTEND;TZID=Pacific/Honolulu:20250718T203000
DTSTAMP:20260422T015153
CREATED:20250607T024438Z
LAST-MODIFIED:20250607T024803Z
UID:11587-1752859800-1752870600@theshopsatkukuiula.com
SUMMARY:Flavors of Kukui`ula: Koloa Plantation Days
DESCRIPTION:The Shops at Kukuiʻula presents Flavors of Kukuiʻula in celebration of Kōloa Plantation Days. Join us for Kaua‘i’s largest family-friendly pau hana party as we honor the island’s rich plantation heritage. Enjoy live music by Kaua‘i’s premier kachi-kachi band\, Wally Rita Y Los Kauaianos\, and savor a variety of plantation-inspired treats\, local delicacies\, and refreshing beverages.
URL:https://theshopsatkukuiula.com/event/flavors-of-kukuiula-koloa-plantation-days-4/
CATEGORIES:Special Events and Promotions
ATTACH;FMTTYPE=image/jpeg:https://theshopsatkukuiula.com/wp-content/uploads/2025/06/Flavors-of-Kukuiula-scaled.jpg
END:VEVENT
BEGIN:VEVENT
DTSTART;TZID=Pacific/Honolulu:20250716T153000
DTEND;TZID=Pacific/Honolulu:20250716T180000
DTSTAMP:20260422T015153
CREATED:20250626T140503Z
LAST-MODIFIED:20250626T140503Z
UID:11613-1752679800-1752688800@theshopsatkukuiula.com
SUMMARY:Lei Making July
DESCRIPTION:Wednesday\, July 16th\, 3:30 pm – 6 pm\, Palm Court \nJoin us for a hands-on lei-making experience with Halau Ka Lei Mokihana o Leina‘ala. Whether you want to create your own beautiful lei or purchase a unique\, handcrafted lei. \nA minimum donation of $10 is requested to participate in the lei-making workshop. All donations will support the Keiki Hula Program\, helping to nurture the next generation of hula dancers. \nCome celebrate aloha spirit\, creativity\, and community through this meaningful cultural practice!
URL:https://theshopsatkukuiula.com/event/lei-making-july-2-2/
LOCATION:Palm Court
CATEGORIES:Special Events,Special Events and Promotions
ATTACH;FMTTYPE=image/jpeg:https://theshopsatkukuiula.com/wp-content/uploads/2024/06/TSAK_Lei.jpg
END:VEVENT
BEGIN:VEVENT
DTSTART;TZID=Pacific/Honolulu:20250716T110000
DTEND;TZID=Pacific/Honolulu:20250716T160000
DTSTAMP:20260422T015153
CREATED:20250626T142236Z
LAST-MODIFIED:20250626T142535Z
UID:11619-1752663600-1752681600@theshopsatkukuiula.com
SUMMARY:Lappert's Hawaii Tiki Summer Keiki Fun Event
DESCRIPTION:Time: 11am – 4pm\nLocation: Lappert’s Hawaii Ice Cream & Coffee \nJoin us for some sweet summer fun hosted by Lappert’s Hawaii! At the Tiki Summer Keiki event\, kids can color their own tiki mask and enjoy a free keiki scoop of ice cream in a cup. For more event details and to learn about Lappert’s summery giveaway\, visit @lappertsaloha on Instagram!
URL:https://theshopsatkukuiula.com/event/lapperts-hawaii-tiki-summer-keiki-fun-event-3/
LOCATION:Lappert’s Hawaii Ice Cream & Coffee
CATEGORIES:Special Events,Special Events and Promotions
ATTACH;FMTTYPE=image/jpeg:https://theshopsatkukuiula.com/wp-content/uploads/2025/06/Keiki-Coloring6x6.jpg
END:VEVENT
BEGIN:VEVENT
DTSTART;TZID=UTC:20250711T183000
DTEND;TZID=UTC:20250711T203000
DTSTAMP:20260422T015153
CREATED:20211030T075134Z
LAST-MODIFIED:20211030T075134Z
UID:10974-1752258600-1752265800@theshopsatkukuiula.com
SUMMARY:Kanikapila
DESCRIPTION:Celebrate Aloha Friday with live music performances by local Kaua’i bands and artists.
URL:https://theshopsatkukuiula.com/event/kanikapila/2025-07-11/
CATEGORIES:Ongoing Events
END:VEVENT
BEGIN:VEVENT
DTSTART;TZID=Pacific/Honolulu:20250709T153000
DTEND;TZID=Pacific/Honolulu:20250709T180000
DTSTAMP:20260422T015153
CREATED:20250626T140230Z
LAST-MODIFIED:20250626T140307Z
UID:11612-1752075000-1752084000@theshopsatkukuiula.com
SUMMARY:Lei Making July
DESCRIPTION:Wednesday\, July 9th\, 3:30 pm – 6 pm\, Palm Court \nJoin us for a hands-on lei-making experience with Halau Ka Lei Mokihana o Leina‘ala. Whether you want to create your own beautiful lei or purchase a unique\, handcrafted lei. \nA minimum donation of $10 is requested to participate in the lei-making workshop. All donations will support the Keiki Hula Program\, helping to nurture the next generation of hula dancers. \nCome celebrate aloha spirit\, creativity\, and community through this meaningful cultural practice!
URL:https://theshopsatkukuiula.com/event/lei-making-july-2/
LOCATION:Palm Court
CATEGORIES:Special Events,Special Events and Promotions
ATTACH;FMTTYPE=image/jpeg:https://theshopsatkukuiula.com/wp-content/uploads/2024/06/TSAK_Lei.jpg
END:VEVENT
BEGIN:VEVENT
DTSTART;TZID=Pacific/Honolulu:20250705T110000
DTEND;TZID=Pacific/Honolulu:20250705T160000
DTSTAMP:20260422T015153
CREATED:20250626T142123Z
LAST-MODIFIED:20250626T142603Z
UID:11618-1751713200-1751731200@theshopsatkukuiula.com
SUMMARY:Lappert's Hawaii Tiki Summer Keiki Fun Event
DESCRIPTION:Time: 11am – 4pm\nLocation: Lappert’s Hawaii Ice Cream & Coffee \nJoin us for some sweet summer fun hosted by Lappert’s Hawaii! At the Tiki Summer Keiki event\, kids can color their own tiki mask and enjoy a free keiki scoop of ice cream in a cup. For more event details and to learn about Lappert’s summery giveaway\, visit @lappertsaloha on Instagram!
URL:https://theshopsatkukuiula.com/event/lapperts-hawaii-tiki-summer-keiki-fun-event-2/
LOCATION:Lappert’s Hawaii Ice Cream & Coffee
CATEGORIES:Special Events,Special Events and Promotions
ATTACH;FMTTYPE=image/jpeg:https://theshopsatkukuiula.com/wp-content/uploads/2025/06/Keiki-Coloring6x6.jpg
END:VEVENT
BEGIN:VEVENT
DTSTART;TZID=UTC:20250704T183000
DTEND;TZID=UTC:20250704T203000
DTSTAMP:20260422T015153
CREATED:20211030T075134Z
LAST-MODIFIED:20211030T075134Z
UID:10971-1751653800-1751661000@theshopsatkukuiula.com
SUMMARY:Kanikapila
DESCRIPTION:Celebrate Aloha Friday with live music performances by local Kaua’i bands and artists.
URL:https://theshopsatkukuiula.com/event/kanikapila/2025-07-04/
CATEGORIES:Ongoing Events
END:VEVENT
BEGIN:VEVENT
DTSTART;TZID=Pacific/Honolulu:20250702T153000
DTEND;TZID=Pacific/Honolulu:20250702T180000
DTSTAMP:20260422T015153
CREATED:20250626T135748Z
LAST-MODIFIED:20250626T135805Z
UID:11610-1751470200-1751479200@theshopsatkukuiula.com
SUMMARY:Lei Making July
DESCRIPTION:Wednesday\, July 2nd\, 3:30 pm – 6 pm\, Palm Court \nJoin us for a hands-on lei-making experience with Halau Ka Lei Mokihana o Leina‘ala. Whether you want to create your own beautiful lei or purchase a unique\, handcrafted lei. \nA minimum donation of $10 is requested to participate in the lei-making workshop. All donations will support the Keiki Hula Program\, helping to nurture the next generation of hula dancers. \nCome celebrate aloha spirit\, creativity\, and community through this meaningful cultural practice!
URL:https://theshopsatkukuiula.com/event/lei-making-july/
LOCATION:Palm Court
CATEGORIES:Special Events,Special Events and Promotions
ATTACH;FMTTYPE=image/jpeg:https://theshopsatkukuiula.com/wp-content/uploads/2024/06/TSAK_Lei.jpg
END:VEVENT
BEGIN:VEVENT
DTSTART;TZID=Pacific/Honolulu:20250702T110000
DTEND;TZID=Pacific/Honolulu:20250702T160000
DTSTAMP:20260422T015153
CREATED:20250626T141858Z
LAST-MODIFIED:20250626T142610Z
UID:11614-1751454000-1751472000@theshopsatkukuiula.com
SUMMARY:Lappert's Hawaii Tiki Summer Keiki Fun Event
DESCRIPTION:Time: 11am – 4pm\nLocation: Lappert’s Hawaii Ice Cream & Coffee \nJoin us for some sweet summer fun hosted by Lappert’s Hawaii! At the Tiki Summer Keiki event\, kids can color their own tiki mask and enjoy a free keiki scoop of ice cream in a cup. For more event details and to learn about Lappert’s summery giveaway\, visit @lappertsaloha on Instagram!
URL:https://theshopsatkukuiula.com/event/lapperts-hawaii-tiki-summer-keiki-fun-event/
LOCATION:Lappert’s Hawaii Ice Cream & Coffee
CATEGORIES:Special Events,Special Events and Promotions
ATTACH;FMTTYPE=image/jpeg:https://theshopsatkukuiula.com/wp-content/uploads/2025/06/Keiki-Coloring6x6.jpg
END:VEVENT
BEGIN:VEVENT
DTSTART;TZID=UTC:20250627T183000
DTEND;TZID=UTC:20250627T203000
DTSTAMP:20260422T015153
CREATED:20211030T075134Z
LAST-MODIFIED:20211030T075134Z
UID:10956-1751049000-1751056200@theshopsatkukuiula.com
SUMMARY:Kanikapila
DESCRIPTION:Celebrate Aloha Friday with live music performances by local Kaua’i bands and artists.
URL:https://theshopsatkukuiula.com/event/kanikapila/2025-06-27/
CATEGORIES:Ongoing Events
END:VEVENT
BEGIN:VEVENT
DTSTART;TZID=Pacific/Honolulu:20250625T153000
DTEND;TZID=Pacific/Honolulu:20250625T180000
DTSTAMP:20260422T015153
CREATED:20250531T020656Z
LAST-MODIFIED:20250604T192204Z
UID:11582-1750865400-1750874400@theshopsatkukuiula.com
SUMMARY:Lei Making
DESCRIPTION:Wednesday\, June 25th\, 3:30 pm – 6 pm\, Palm Court \n\nJoin us for a hands-on lei-making experience with Halau Ka Lei Mokihana o Leina’ala. Whether you want to create your own beautiful lei or purchase a unique\, handcrafted lei. A minimum donation of $10 is requested to participate in the lei-making workshop. All donations will support the Keiki Hula Program\, helping to nurture the next generation of hula dancers. Come celebrate aloha spirit\, creativity\, and community through this meaningful cultural practice!
URL:https://theshopsatkukuiula.com/event/lei-making-2-2-2/
LOCATION:Palm Court
CATEGORIES:Special Events,Special Events and Promotions
ATTACH;FMTTYPE=image/jpeg:https://theshopsatkukuiula.com/wp-content/uploads/2024/04/IMG_7463-scaled.jpg
END:VEVENT
BEGIN:VEVENT
DTSTART;TZID=UTC:20250620T183000
DTEND;TZID=UTC:20250620T203000
DTSTAMP:20260422T015153
CREATED:20211030T075134Z
LAST-MODIFIED:20211030T075134Z
UID:10952-1750444200-1750451400@theshopsatkukuiula.com
SUMMARY:Kanikapila
DESCRIPTION:Celebrate Aloha Friday with live music performances by local Kaua’i bands and artists.
URL:https://theshopsatkukuiula.com/event/kanikapila/2025-06-20/
CATEGORIES:Ongoing Events
END:VEVENT
BEGIN:VEVENT
DTSTART;TZID=Pacific/Honolulu:20250618T153000
DTEND;TZID=Pacific/Honolulu:20250618T180000
DTSTAMP:20260422T015153
CREATED:20250531T020600Z
LAST-MODIFIED:20250604T192148Z
UID:11581-1750260600-1750269600@theshopsatkukuiula.com
SUMMARY:Lei Making
DESCRIPTION:Wednesday\, June 18th\, 3:30 pm – 6 pm\, Palm Court \n\nJoin us for a hands-on lei-making experience with Halau Ka Lei Mokihana o Leina’ala. Whether you want to create your own beautiful lei or purchase a unique\, handcrafted lei. A minimum donation of $10 is requested to participate in the lei-making workshop. All donations will support the Keiki Hula Program\, helping to nurture the next generation of hula dancers. Come celebrate aloha spirit\, creativity\, and community through this meaningful cultural practice!
URL:https://theshopsatkukuiula.com/event/lei-making-2-2/
LOCATION:Palm Court
CATEGORIES:Special Events,Special Events and Promotions
ATTACH;FMTTYPE=image/jpeg:https://theshopsatkukuiula.com/wp-content/uploads/2024/04/IMG_7463-scaled.jpg
END:VEVENT
BEGIN:VEVENT
DTSTART;TZID=UTC:20250613T183000
DTEND;TZID=UTC:20250613T203000
DTSTAMP:20260422T015153
CREATED:20211030T075134Z
LAST-MODIFIED:20211030T075134Z
UID:10948-1749839400-1749846600@theshopsatkukuiula.com
SUMMARY:Kanikapila
DESCRIPTION:Celebrate Aloha Friday with live music performances by local Kaua’i bands and artists.
URL:https://theshopsatkukuiula.com/event/kanikapila/2025-06-13/
CATEGORIES:Ongoing Events
END:VEVENT
BEGIN:VEVENT
DTSTART;TZID=Pacific/Honolulu:20250611T153000
DTEND;TZID=Pacific/Honolulu:20250611T180000
DTSTAMP:20260422T015153
CREATED:20250531T020132Z
LAST-MODIFIED:20250604T192134Z
UID:11579-1749655800-1749664800@theshopsatkukuiula.com
SUMMARY:Lei Making
DESCRIPTION:Wednesday\, June 11th\, 3:30 pm – 6 pm\, Palm Court \n\nJoin us for a hands-on lei-making experience with Halau Ka Lei Mokihana o Leina’ala. Whether you want to create your own beautiful lei or purchase a unique\, handcrafted lei. A minimum donation of $10 is requested to participate in the lei-making workshop. All donations will support the Keiki Hula Program\, helping to nurture the next generation of hula dancers. Come celebrate aloha spirit\, creativity\, and community through this meaningful cultural practice!
URL:https://theshopsatkukuiula.com/event/lei-making-2/
LOCATION:Palm Court
CATEGORIES:Special Events,Special Events and Promotions
ATTACH;FMTTYPE=image/jpeg:https://theshopsatkukuiula.com/wp-content/uploads/2024/04/IMG_7463-scaled.jpg
END:VEVENT
BEGIN:VEVENT
DTSTART;TZID=UTC:20250606T183000
DTEND;TZID=UTC:20250606T203000
DTSTAMP:20260422T015153
CREATED:20211030T075134Z
LAST-MODIFIED:20211030T075134Z
UID:10925-1749234600-1749241800@theshopsatkukuiula.com
SUMMARY:Kanikapila
DESCRIPTION:Celebrate Aloha Friday with live music performances by local Kaua’i bands and artists.
URL:https://theshopsatkukuiula.com/event/kanikapila/2025-06-06/
CATEGORIES:Ongoing Events
END:VEVENT
BEGIN:VEVENT
DTSTART;TZID=Pacific/Honolulu:20250604T153000
DTEND;TZID=Pacific/Honolulu:20250604T180000
DTSTAMP:20260422T015153
CREATED:20240610T215136Z
LAST-MODIFIED:20250604T192112Z
UID:11255-1749051000-1749060000@theshopsatkukuiula.com
SUMMARY:Lei Making
DESCRIPTION:Wednesday\, June 4th\, 3:30 pm – 6 pm\, Palm Court \nJoin us for a hands-on lei-making experience with Halau Ka Lei Mokihana o Leina’ala. Whether you want to create your own beautiful lei or purchase a unique\, handcrafted lei. A minimum donation of $10 is requested to participate in the lei-making workshop. All donations will support the Keiki Hula Program\, helping to nurture the next generation of hula dancers. Come celebrate aloha spirit\, creativity\, and community through this meaningful cultural practice!
URL:https://theshopsatkukuiula.com/event/lei-making/
LOCATION:Palm Court
CATEGORIES:Special Events,Special Events and Promotions
ATTACH;FMTTYPE=image/jpeg:https://theshopsatkukuiula.com/wp-content/uploads/2024/06/TSAK_Lei.jpg
END:VEVENT
BEGIN:VEVENT
DTSTART;TZID=UTC:20250530T183000
DTEND;TZID=UTC:20250530T203000
DTSTAMP:20260422T015153
CREATED:20211030T075134Z
LAST-MODIFIED:20211030T075134Z
UID:10919-1748629800-1748637000@theshopsatkukuiula.com
SUMMARY:Kanikapila
DESCRIPTION:Celebrate Aloha Friday with live music performances by local Kaua’i bands and artists.
URL:https://theshopsatkukuiula.com/event/kanikapila/2025-05-30/
CATEGORIES:Ongoing Events
END:VEVENT
BEGIN:VEVENT
DTSTART;TZID=UTC:20250523T183000
DTEND;TZID=UTC:20250523T203000
DTSTAMP:20260422T015153
CREATED:20211030T075134Z
LAST-MODIFIED:20211030T075134Z
UID:10916-1748025000-1748032200@theshopsatkukuiula.com
SUMMARY:Kanikapila
DESCRIPTION:Celebrate Aloha Friday with live music performances by local Kaua’i bands and artists.
URL:https://theshopsatkukuiula.com/event/kanikapila/2025-05-23/
CATEGORIES:Ongoing Events
END:VEVENT
BEGIN:VEVENT
DTSTART;TZID=UTC:20250516T183000
DTEND;TZID=UTC:20250516T203000
DTSTAMP:20260422T015153
CREATED:20211030T075134Z
LAST-MODIFIED:20211030T075134Z
UID:10908-1747420200-1747427400@theshopsatkukuiula.com
SUMMARY:Kanikapila
DESCRIPTION:Celebrate Aloha Friday with live music performances by local Kaua’i bands and artists.
URL:https://theshopsatkukuiula.com/event/kanikapila/2025-05-16/
CATEGORIES:Ongoing Events
END:VEVENT
BEGIN:VEVENT
DTSTART;VALUE=DATE:20250516
DTEND;VALUE=DATE:20250616
DTSTAMP:20260422T015153
CREATED:20250515T221345Z
LAST-MODIFIED:20250516T100105Z
UID:11561-1747353600-1750031999@theshopsatkukuiula.com
SUMMARY:Get a $50 Award!
DESCRIPTION:Get a $50 award with every $175 you spend* \nEarn by June 15 \nRedeem June 16 – July 7 \n*Restrictions apply.
URL:https://theshopsatkukuiula.com/event/get-a-50-award-2/
CATEGORIES:Special Events,Special Events and Promotions
ATTACH;FMTTYPE=image/png:https://theshopsatkukuiula.com/wp-content/uploads/2025/05/Tommy-Bahama-Campaign-487-Get-a-50-Award.png
END:VEVENT
BEGIN:VEVENT
DTSTART;VALUE=DATE:20250516
DTEND;VALUE=DATE:20250526
DTSTAMP:20260422T015153
CREATED:20250515T215551Z
LAST-MODIFIED:20250516T100111Z
UID:11559-1747353600-1748217599@theshopsatkukuiula.com
SUMMARY:Free Pineapple Blooms Tote
DESCRIPTION:Collect the free Pineapple Blooms Tote \nLimited-time gift with any purchase over $175* \nEnds May 25 \n*Restrictions apply
URL:https://theshopsatkukuiula.com/event/free-pineapple-blooms-tote/
CATEGORIES:Special Events,Special Events and Promotions
ATTACH;FMTTYPE=image/jpeg:https://theshopsatkukuiula.com/wp-content/uploads/2025/05/Tommy-Bahama-Campaign-489-Free-Pineapple-Blooms-Tote-EN-1280x1280-1.jpg
END:VEVENT
BEGIN:VEVENT
DTSTART;TZID=UTC:20250509T183000
DTEND;TZID=UTC:20250509T203000
DTSTAMP:20260422T015153
CREATED:20211030T075134Z
LAST-MODIFIED:20211030T075134Z
UID:10901-1746815400-1746822600@theshopsatkukuiula.com
SUMMARY:Kanikapila
DESCRIPTION:Celebrate Aloha Friday with live music performances by local Kaua’i bands and artists.
URL:https://theshopsatkukuiula.com/event/kanikapila/2025-05-09/
CATEGORIES:Ongoing Events
END:VEVENT
BEGIN:VEVENT
DTSTART;TZID=Pacific/Honolulu:20250509T160000
DTEND;TZID=Pacific/Honolulu:20250509T200000
DTSTAMP:20260422T015153
CREATED:20250417T203620Z
LAST-MODIFIED:20250502T183938Z
UID:11533-1746806400-1746820800@theshopsatkukuiula.com
SUMMARY:Mother's Day Night Market
DESCRIPTION:Mother’s Day Night Market\nFriday\, May 9th\, 4 pm – 8 pm \nJoin us as we celebrate our first-ever Mother’s Day Night Market! Enjoy Mother’s Day specials\, Hawai’i-made vendors\, tasty bites from participating restaurants\, and keiki activities including a craft station and face painting. Plus\, earn 3X HawaiianMiles for every $1 spent at participating retailers\, restaurants\, and vendors ($50 minimum\, $500 maximum). \nHawai`i Made Vendors \n\nMatt Bruening\nCassandra Rull\nThe HK Experience\nKulamanu Designs\nKaua`i Candle Co.\nI Love You From Here To Kaua`i\nShorrline Design\nRooster Moon Co.\nHa`a and Co.\nKoloa Farms\nStargrit\nWhite Sand Jewelry\n\n\nTerms & Conditions \n\nMust present the original receipts or proof of digital receipt. * Credit card receipts must be accompanied by the original receipt. * Receipts can only be redeemed on the same day of purchase. The subtotal of receipts does not include tips\, tax\, or gift card purchases. * Same-day receipts must be time-stamped between 4PM and 8PM on Friday\, May 9\, 2025. No exceptions. * Customers must spend a minimum of $50 to earn HawaiianMiles. * Splitting receipts between customers is NOT allowed.\nCustomers must present their HawaiianMiles number at the time of redemption. * Individual HawaiianMiles members can earn up to 1\,500 miles maximum ($500 in sub-total receipts). * Individual HawaiianMiles members must be present to receive awarded miles\, signature and I.D. will be required from each member. * All standard HawaiianMiles terms and conditions apply.\nMiles voided on returned purchases.\nPurchases of gift certificates from individual stores/restaurants gift certificates/cards do not qualify for miles. * Additional restrictions may apply.
URL:https://theshopsatkukuiula.com/event/mothers-day-night-market/
CATEGORIES:Special Events,Special Events and Promotions
ATTACH;FMTTYPE=image/jpeg:https://theshopsatkukuiula.com/wp-content/uploads/2025/04/MDNM_Website_photo.jpg
END:VEVENT
BEGIN:VEVENT
DTSTART;TZID=UTC:20250502T183000
DTEND;TZID=UTC:20250502T203000
DTSTAMP:20260422T015153
CREATED:20211030T075134Z
LAST-MODIFIED:20211030T075134Z
UID:10898-1746210600-1746217800@theshopsatkukuiula.com
SUMMARY:Kanikapila
DESCRIPTION:Celebrate Aloha Friday with live music performances by local Kaua’i bands and artists.
URL:https://theshopsatkukuiula.com/event/kanikapila/2025-05-02/
CATEGORIES:Ongoing Events
END:VEVENT
BEGIN:VEVENT
DTSTART;TZID=UTC:20250425T183000
DTEND;TZID=UTC:20250425T203000
DTSTAMP:20260422T015153
CREATED:20211030T075134Z
LAST-MODIFIED:20211030T075134Z
UID:10894-1745605800-1745613000@theshopsatkukuiula.com
SUMMARY:Kanikapila
DESCRIPTION:Celebrate Aloha Friday with live music performances by local Kaua’i bands and artists.
URL:https://theshopsatkukuiula.com/event/kanikapila/2025-04-25/
CATEGORIES:Ongoing Events
END:VEVENT
END:VCALENDAR